BEGIN:VCALENDAR
VERSION:2.0
PRODID:-//RaceMid2025 - ECPv6.15.1.1//NONSGML v1.0//EN
CALSCALE:GREGORIAN
METHOD:PUBLISH
X-WR-CALNAME:RaceMid2025
X-ORIGINAL-URL:https://racemid.com/news
X-WR-CALDESC:Events for RaceMid2025
REFRESH-INTERVAL;VALUE=DURATION:PT1H
X-Robots-Tag:noindex
X-PUBLISHED-TTL:PT1H
BEGIN:VTIMEZONE
TZID:America/Indiana/Indianapolis
BEGIN:DAYLIGHT
TZOFFSETFROM:-0500
TZOFFSETTO:-0400
TZNAME:EDT
DTSTART:20250309T070000
END:DAYLIGHT
BEGIN:STANDARD
TZOFFSETFROM:-0400
TZOFFSETTO:-0500
TZNAME:EST
DTSTART:20251102T060000
END:STANDARD
END:VTIMEZONE
BEGIN:VEVENT
DTSTART;VALUE=DATE:20251127
DTEND;VALUE=DATE:20251201
DTSTAMP:20260423T113338
CREATED:20250903T004000Z
LAST-MODIFIED:20250903T004000Z
UID:4932-1764201600-1764547199@racemid.com
SUMMARY:World Footbrake Challenge - COALBURG RACING PROMOTIONS
DESCRIPTION:
URL:https://racemid.com/news/event/world-footbrake-challenge-coalburg-racing-promotions/
LOCATION:Montgomery International Dragway\, 2600 N Belt Dr\, Montgomery\, AL\, 36110\, United States
ATTACH;FMTTYPE=image/jpeg:https://racemid.com/news/wp-content/uploads/2025/09/WFCNov28-30.jpeg
END:VEVENT
BEGIN:VEVENT
DTSTART;VALUE=DATE:20251114
DTEND;VALUE=DATE:20251117
DTSTAMP:20260423T113338
CREATED:20250309T205259Z
LAST-MODIFIED:20250903T003554Z
UID:4776-1763078400-1763337599@racemid.com
SUMMARY:Gobble Wobble Thanksgiving Bracket Race
DESCRIPTION:
URL:https://racemid.com/news/event/gobble-wobble-thanksgiving-bracket-race/
LOCATION:Montgomery International Dragway\, 2600 N Belt Dr\, Montgomery\, AL\, 36110\, United States
ATTACH;FMTTYPE=image/png:https://racemid.com/news/wp-content/uploads/2025/03/GobbleWobbleNov14-16.png
END:VEVENT
BEGIN:VEVENT
DTSTART;VALUE=DATE:20251107
DTEND;VALUE=DATE:20251110
DTSTAMP:20260423T113338
CREATED:20250903T003808Z
LAST-MODIFIED:20250903T003808Z
UID:4929-1762473600-1762732799@racemid.com
SUMMARY:CAP CITY 50K Big Buck Bracket Race
DESCRIPTION:
URL:https://racemid.com/news/event/cap-city-50k-big-buck-bracket-race/
LOCATION:Montgomery International Dragway\, 2600 N Belt Dr\, Montgomery\, AL\, 36110\, United States
ATTACH;FMTTYPE=image/jpeg:https://racemid.com/news/wp-content/uploads/2025/09/capcity50K.jpeg
END:VEVENT
BEGIN:VEVENT
DTSTART;VALUE=DATE:20251031
DTEND;VALUE=DATE:20251103
DTSTAMP:20260423T113338
CREATED:20250421T004641Z
LAST-MODIFIED:20250421T004641Z
UID:4814-1761868800-1762127999@racemid.com
SUMMARY:Halloween Havoc Junior Drag Racing Event; Oct. 31-Nov.2
DESCRIPTION:
URL:https://racemid.com/news/event/halloween-havoc-junior-drag-racing-event-oct-31-nov-2/
LOCATION:Montgomery International Dragway\, 2600 N Belt Dr\, Montgomery\, AL\, 36110\, United States
ATTACH;FMTTYPE=image/png:https://racemid.com/news/wp-content/uploads/2025/04/Halloween-Havoc-2025.png
END:VEVENT
BEGIN:VEVENT
DTSTART;VALUE=DATE:20251008
DTEND;VALUE=DATE:20251013
DTSTAMP:20260423T113338
CREATED:20250827T005248Z
LAST-MODIFIED:20250827T005248Z
UID:4895-1759881600-1760313599@racemid.com
SUMMARY:5th Annual Mike Smith Memorial Race
DESCRIPTION:
URL:https://racemid.com/news/event/5th-annual-mike-smith-memorial-race/
LOCATION:Montgomery International Dragway\, 2600 N Belt Dr\, Montgomery\, AL\, 36110\, United States
ATTACH;FMTTYPE=image/png:https://racemid.com/news/wp-content/uploads/2025/08/2025-Mike-Smith-Memorial.png
END:VEVENT
BEGIN:VEVENT
DTSTART;VALUE=DATE:20250912
DTEND;VALUE=DATE:20250914
DTSTAMP:20260423T113338
CREATED:20250903T004143Z
LAST-MODIFIED:20250903T004143Z
UID:4935-1757635200-1757807999@racemid.com
SUMMARY:Beat the Heat Radial Event\, September 12-13
DESCRIPTION:
URL:https://racemid.com/news/event/beat-the-heat-radial-event-september-12-13/
LOCATION:Montgomery International Dragway\, 2600 N Belt Dr\, Montgomery\, AL\, 36110\, United States
ATTACH;FMTTYPE=image/jpeg:https://racemid.com/news/wp-content/uploads/2025/09/beattheheat.jpeg
END:VEVENT
BEGIN:VEVENT
DTSTART;VALUE=DATE:20250906
DTEND;VALUE=DATE:20250909
DTSTAMP:20260423T113338
CREATED:20250210T024620Z
LAST-MODIFIED:20250210T024620Z
UID:4674-1757116800-1757375999@racemid.com
SUMMARY:WDRA Super 7 Series Bracket Points Race #7 - September 6-7
DESCRIPTION:
URL:https://racemid.com/news/event/wdra-super-7-series-bracket-points-race-7-september-6-7/
LOCATION:Montgomery International Dragway\, 2600 N Belt Dr\, Montgomery\, AL\, 36110\, United States
ATTACH;FMTTYPE=image/jpeg:https://racemid.com/news/wp-content/uploads/2025/01/2025-points-payouts-2-1.jpg
END:VEVENT
BEGIN:VEVENT
DTSTART;VALUE=DATE:20250620
DTEND;VALUE=DATE:20250623
DTSTAMP:20260423T113338
CREATED:20250210T024218Z
LAST-MODIFIED:20250210T024524Z
UID:4672-1750377600-1750636799@racemid.com
SUMMARY:WDRA Super 7 Series Bracket Points Race #6 - June 21-22
DESCRIPTION:
URL:https://racemid.com/news/event/wdra-super-7-series-bracket-points-race-6-june-21-22/
LOCATION:Montgomery International Dragway\, 2600 N Belt Dr\, Montgomery\, AL\, 36110\, United States
ATTACH;FMTTYPE=image/jpeg:https://racemid.com/news/wp-content/uploads/2025/01/2025-points-payouts-2-1.jpg
END:VEVENT
BEGIN:VEVENT
DTSTART;VALUE=DATE:20250530
DTEND;VALUE=DATE:20250602
DTSTAMP:20260423T113338
CREATED:20250210T024126Z
LAST-MODIFIED:20250210T024126Z
UID:4670-1748563200-1748822399@racemid.com
SUMMARY:WDRA Super 7 Series Bracket Points Race #5 - May 30-June 1
DESCRIPTION:
URL:https://racemid.com/news/event/wdra-super-7-series-bracket-points-race-5-may-30-june-1/
LOCATION:Montgomery International Dragway\, 2600 N Belt Dr\, Montgomery\, AL\, 36110\, United States
ATTACH;FMTTYPE=image/jpeg:https://racemid.com/news/wp-content/uploads/2025/01/2025-points-payouts-2-1.jpg
END:VEVENT
BEGIN:VEVENT
DTSTART;VALUE=DATE:20250425
DTEND;VALUE=DATE:20250428
DTSTAMP:20260423T113338
CREATED:20250210T024036Z
LAST-MODIFIED:20250210T024036Z
UID:4668-1745539200-1745798399@racemid.com
SUMMARY:WDRA Super 7 Series Bracket Points Race #5 - April 26-27
DESCRIPTION:
URL:https://racemid.com/news/event/wdra-super-7-series-bracket-points-race-5-april-26-27/
LOCATION:Montgomery International Dragway\, 2600 N Belt Dr\, Montgomery\, AL\, 36110\, United States
ATTACH;FMTTYPE=image/jpeg:https://racemid.com/news/wp-content/uploads/2025/01/2025-points-payouts-2-1.jpg
END:VEVENT
BEGIN:VEVENT
DTSTART;VALUE=DATE:20250404
DTEND;VALUE=DATE:20250407
DTSTAMP:20260423T113338
CREATED:20250210T023954Z
LAST-MODIFIED:20250210T023954Z
UID:4666-1743724800-1743983999@racemid.com
SUMMARY:WDRA Super 7 Series Bracket Points Race #3 - April 4-6
DESCRIPTION:
URL:https://racemid.com/news/event/wdra-super-7-series-bracket-points-race-3-april-4-6/
LOCATION:Montgomery International Dragway\, 2600 N Belt Dr\, Montgomery\, AL\, 36110\, United States
ATTACH;FMTTYPE=image/jpeg:https://racemid.com/news/wp-content/uploads/2025/01/2025-points-payouts-2-1.jpg
END:VEVENT
BEGIN:VEVENT
DTSTART;TZID=America/Indiana/Indianapolis:20250327T080000
DTEND;TZID=America/Indiana/Indianapolis:20250330T170000
DTSTAMP:20260423T113338
CREATED:20250219T184912Z
LAST-MODIFIED:20250219T185001Z
UID:4719-1743062400-1743354000@racemid.com
SUMMARY:CAP CITY 50K Bracket Race\, March 27-30
DESCRIPTION:
URL:https://racemid.com/news/event/cap-city-50k-bracket-race-march-27-30/
LOCATION:AL
ATTACH;FMTTYPE=image/jpeg:https://racemid.com/news/wp-content/uploads/2025/02/IMG_8700.jpeg
END:VEVENT
BEGIN:VEVENT
DTSTART;VALUE=DATE:20250307
DTEND;VALUE=DATE:20250309
DTSTAMP:20260423T113338
CREATED:20250210T023855Z
LAST-MODIFIED:20250210T023855Z
UID:4664-1741305600-1741478399@racemid.com
SUMMARY:WDRA Super 7 Series Bracket Points Race #2
DESCRIPTION:
URL:https://racemid.com/news/event/wdra-super-7-series-bracket-points-race-2/
LOCATION:Montgomery International Dragway\, 2600 N Belt Dr\, Montgomery\, AL\, 36110\, United States
ATTACH;FMTTYPE=image/jpeg:https://racemid.com/news/wp-content/uploads/2025/01/2025-points-payouts-2-1.jpg
END:VEVENT
BEGIN:VEVENT
DTSTART;VALUE=DATE:20250302
DTEND;VALUE=DATE:20250303
DTSTAMP:20260423T113338
CREATED:20250210T023349Z
LAST-MODIFIED:20250210T023349Z
UID:4658-1740873600-1740959999@racemid.com
SUMMARY:Diaper Gang Showdown on March 2\, 2025
DESCRIPTION:
URL:https://racemid.com/news/event/diaper-gang-showdown-on-march-2-2025/
LOCATION:Montgomery International Dragway\, 2600 N Belt Dr\, Montgomery\, AL\, 36110\, United States
ATTACH;FMTTYPE=image/jpeg:https://racemid.com/news/wp-content/uploads/2025/02/image000000.jpeg
END:VEVENT
BEGIN:VEVENT
DTSTART;VALUE=DATE:20250301
DTEND;VALUE=DATE:20250302
DTSTAMP:20260423T113338
CREATED:20250220T022932Z
LAST-MODIFIED:20250220T022932Z
UID:4725-1740787200-1740873599@racemid.com
SUMMARY:ATV Racing + Street Car Shootout March 1
DESCRIPTION:
URL:https://racemid.com/news/event/atv-racing-street-car-shootout-march-1/
LOCATION:AL
ATTACH;FMTTYPE=image/png:https://racemid.com/news/wp-content/uploads/2025/02/ATV.png
END:VEVENT
BEGIN:VEVENT
DTSTART;VALUE=DATE:20250221
DTEND;VALUE=DATE:20250224
DTSTAMP:20260423T113338
CREATED:20250210T023725Z
LAST-MODIFIED:20250210T023725Z
UID:4661-1740096000-1740355199@racemid.com
SUMMARY:Super 7 Series Points Bracket Race #1 - February 21-23
DESCRIPTION:
URL:https://racemid.com/news/event/super-7-series-points-bracket-race-1-february-21-23/
LOCATION:Montgomery International Dragway\, 2600 N Belt Dr\, Montgomery\, AL\, 36110\, United States
ATTACH;FMTTYPE=image/jpeg:https://racemid.com/news/wp-content/uploads/2025/01/2025-points-payouts-2-1.jpg
END:VEVENT
BEGIN:VEVENT
DTSTART;VALUE=DATE:20250101
DTEND;VALUE=DATE:20260101
DTSTAMP:20260423T113338
CREATED:20250210T023109Z
LAST-MODIFIED:20250903T132915Z
UID:4655-1735689600-1767225599@racemid.com
SUMMARY:2025 Montgomery Master Schedule
DESCRIPTION:
URL:https://racemid.com/news/event/2025-montgomery-master-schedule/
LOCATION:Montgomery International Dragway\, 2600 N Belt Dr\, Montgomery\, AL\, 36110\, United States
ATTACH;FMTTYPE=image/png:https://racemid.com/news/wp-content/uploads/2025/02/2025Schedule_SEPTEMBERUpdate-2.png
END:VEVENT
END:VCALENDAR